BEGIN:VCALENDAR
VERSION:2.0
PRODID:-//Bastide Rouge - ECPv6.15.12.2//NONSGML v1.0//EN
CALSCALE:GREGORIAN
METHOD:PUBLISH
X-WR-CALNAME:Bastide Rouge
X-ORIGINAL-URL:https://bastiderouge.com
X-WR-CALDESC:Évènements pour Bastide Rouge
REFRESH-INTERVAL;VALUE=DURATION:PT1H
X-Robots-Tag:noindex
X-PUBLISHED-TTL:PT1H
BEGIN:VTIMEZONE
TZID:Europe/Paris
BEGIN:DAYLIGHT
TZOFFSETFROM:+0100
TZOFFSETTO:+0200
TZNAME:CEST
DTSTART:20250330T010000
END:DAYLIGHT
BEGIN:STANDARD
TZOFFSETFROM:+0200
TZOFFSETTO:+0100
TZNAME:CET
DTSTART:20251026T010000
END:STANDARD
BEGIN:DAYLIGHT
TZOFFSETFROM:+0100
TZOFFSETTO:+0200
TZNAME:CEST
DTSTART:20260329T010000
END:DAYLIGHT
BEGIN:STANDARD
TZOFFSETFROM:+0200
TZOFFSETTO:+0100
TZNAME:CET
DTSTART:20261025T010000
END:STANDARD
BEGIN:DAYLIGHT
TZOFFSETFROM:+0100
TZOFFSETTO:+0200
TZNAME:CEST
DTSTART:20270328T010000
END:DAYLIGHT
BEGIN:STANDARD
TZOFFSETFROM:+0200
TZOFFSETTO:+0100
TZNAME:CET
DTSTART:20271031T010000
END:STANDARD
END:VTIMEZONE
BEGIN:VEVENT
DTSTART;TZID=Europe/Paris:20260223T083000
DTEND;TZID=Europe/Paris:20260223T103000
DTSTAMP:20260422T111811
CREATED:20260119T134158Z
LAST-MODIFIED:20260119T134237Z
UID:6453-1771835400-1771842600@bastiderouge.com
SUMMARY:Matinale Économique – Banque de France
DESCRIPTION:Vous êtes entrepreneur\, décideur ou acteur économique du territoire Cannes Lérins ?Ne manquez pas notre matinale exclusive\, animée par Philippe Billard – Directeur départemental de la Banque de France\, qui nous livrera :🔹 La conjoncture économique locale et régionale🔹 Le bilan de l’année 2025🔹 Les perspectives économiques pour 2026 \n\n\n\nUne occasion unique de prendre du recul\, d’éclairer vos décisions stratégiques et d’échanger avec un expert de l’économie territoriale. \n\n\n\nInscrivez-vous dès maintenant et préparez-vous à booster votre vision business en 2026 !https://cloud9.eudonet.com/app/ut?tok=76E319B7&cs=t9ITi_1RHVWTzhXcP2OOadth8mMwrVuHji2smSUWigA%3d&p=mCDqQaMORQBtTGcH_0xVgo_MFX5cnYkR
URL:https://bastiderouge.com/evenement/matinale-economique-banque-de-france/
LOCATION:CANNES BASTIDE ROUGE / Campus Georges Méliès\, 216 AVENUE FRANCIS TONNER\, Cannes La Bocca\, 06150\, France
CATEGORIES:Ateliers
END:VEVENT
BEGIN:VEVENT
DTSTART;TZID=Europe/Paris:20260223T083000
DTEND;TZID=Europe/Paris:20260223T120000
DTSTAMP:20260422T111811
CREATED:20260209T102359Z
LAST-MODIFIED:20260209T102442Z
UID:6484-1771835400-1771848000@bastiderouge.com
SUMMARY: Matinale Économique – Banque de France
DESCRIPTION: Matinale Économique – Banque de France \n\n\n\n  Lundi 23 février 2026 • 8h30 \n\n\n\n 📍 Campus Bastide Rouge – Cannes \n\n\n\nVous êtes entrepreneur·e\, décideur·se ou acteur·rice économique du territoire Cannes Lérins ? \n\n\n\n Ne manquez pas notre matinale exclusive\, animée par Philippe Billard – Directeur départemental de la Banque de France\, qui nous livrera : \n\n\n\n🔹 La conjoncture économique locale et régionale \n\n\n\n 🔹 Le bilan de l’année 2025 \n\n\n\n 🔹 Les perspectives économiques pour 2026 \n\n\n\n👉 Une occasion unique de prendre du recul\, d’éclairer vos décisions stratégiques et d’échanger avec un expert de l’économie territoriale. \n\n\n\n📌 Inscrivez-vous dès maintenant et préparez-vous à booster votre vision business en 2026 ! \n\n\n\nBANQUE DE FRANCE – ATELIER DU 23 FEVRIER 2026
URL:https://bastiderouge.com/evenement/matinale-economique-banque-de-france-2/
ATTACH;FMTTYPE=image/png:https://bastiderouge.com/wp-content/uploads/2026/02/EVENTPEPINIERE52.png
END:VEVENT
END:VCALENDAR