BEGIN:VCALENDAR
VERSION:2.0
PRODID:-//Bastide Rouge - ECPv6.15.12.2//NONSGML v1.0//EN
CALSCALE:GREGORIAN
METHOD:PUBLISH
X-WR-CALNAME:Bastide Rouge
X-ORIGINAL-URL:https://bastiderouge.com
X-WR-CALDESC:Évènements pour Bastide Rouge
REFRESH-INTERVAL;VALUE=DURATION:PT1H
X-Robots-Tag:noindex
X-PUBLISHED-TTL:PT1H
BEGIN:VTIMEZONE
TZID:Europe/Paris
BEGIN:DAYLIGHT
TZOFFSETFROM:+0100
TZOFFSETTO:+0200
TZNAME:CEST
DTSTART:20250330T010000
END:DAYLIGHT
BEGIN:STANDARD
TZOFFSETFROM:+0200
TZOFFSETTO:+0100
TZNAME:CET
DTSTART:20251026T010000
END:STANDARD
BEGIN:DAYLIGHT
TZOFFSETFROM:+0100
TZOFFSETTO:+0200
TZNAME:CEST
DTSTART:20260329T010000
END:DAYLIGHT
BEGIN:STANDARD
TZOFFSETFROM:+0200
TZOFFSETTO:+0100
TZNAME:CET
DTSTART:20261025T010000
END:STANDARD
BEGIN:DAYLIGHT
TZOFFSETFROM:+0100
TZOFFSETTO:+0200
TZNAME:CEST
DTSTART:20270328T010000
END:DAYLIGHT
BEGIN:STANDARD
TZOFFSETFROM:+0200
TZOFFSETTO:+0100
TZNAME:CET
DTSTART:20271031T010000
END:STANDARD
END:VTIMEZONE
BEGIN:VEVENT
DTSTART;TZID=Europe/Paris:20260409T180000
DTEND;TZID=Europe/Paris:20260409T210000
DTSTAMP:20260422T074507
CREATED:20260326T145856Z
LAST-MODIFIED:20260326T145936Z
UID:6548-1775757600-1775768400@bastiderouge.com
SUMMARY:Rencontre avec l’Association des Auteurs Réalisateurs du Sud-Est
DESCRIPTION:Cannes Bastide Rouge a le plaisir de vous convier à une rencontre avec l’Association des Auteurs Réalisateurs du Sud-Est\, jeudi 9 avril 2026 à 18h. \n\n\n\nAu programme : \n\n\n\n• Cocktail & rencontres avec l’AARSE \n\n\n\n• Visite des studios de production Cannes Bastide Rouge \n\n\n\nCet événement est organisé avec le soutien de la Commission du Film 06. \n\n\n\nUn moment convivial pour développer votre réseau et découvrir les studios Cannes Bastide Rouge. \n\n\n\nInscription obligatoire : https://forms.gle/peEaPwzR8qE2nnAf8
URL:https://bastiderouge.com/evenement/rencontre-avec-lassociation-des-auteurs-realisateurs-du-sud-est/
CATEGORIES:Mes événements
ATTACH;FMTTYPE=image/jpeg:https://bastiderouge.com/wp-content/uploads/2026/03/Evenement-cineastes-1203-5-1.jpg
END:VEVENT
END:VCALENDAR