BEGIN:VCALENDAR
VERSION:2.0
PRODID:-//Bastide Rouge - ECPv6.15.12.2//NONSGML v1.0//EN
CALSCALE:GREGORIAN
METHOD:PUBLISH
X-WR-CALNAME:Bastide Rouge
X-ORIGINAL-URL:https://bastiderouge.com
X-WR-CALDESC:Évènements pour Bastide Rouge
REFRESH-INTERVAL;VALUE=DURATION:PT1H
X-Robots-Tag:noindex
X-PUBLISHED-TTL:PT1H
BEGIN:VTIMEZONE
TZID:Europe/Paris
BEGIN:DAYLIGHT
TZOFFSETFROM:+0100
TZOFFSETTO:+0200
TZNAME:CEST
DTSTART:20250330T010000
END:DAYLIGHT
BEGIN:STANDARD
TZOFFSETFROM:+0200
TZOFFSETTO:+0100
TZNAME:CET
DTSTART:20251026T010000
END:STANDARD
BEGIN:DAYLIGHT
TZOFFSETFROM:+0100
TZOFFSETTO:+0200
TZNAME:CEST
DTSTART:20260329T010000
END:DAYLIGHT
BEGIN:STANDARD
TZOFFSETFROM:+0200
TZOFFSETTO:+0100
TZNAME:CET
DTSTART:20261025T010000
END:STANDARD
BEGIN:DAYLIGHT
TZOFFSETFROM:+0100
TZOFFSETTO:+0200
TZNAME:CEST
DTSTART:20270328T010000
END:DAYLIGHT
BEGIN:STANDARD
TZOFFSETFROM:+0200
TZOFFSETTO:+0100
TZNAME:CET
DTSTART:20271031T010000
END:STANDARD
END:VTIMEZONE
BEGIN:VEVENT
DTSTART;TZID=Europe/Paris:20260423T080000
DTEND;TZID=Europe/Paris:20261204T170000
DTSTAMP:20260423T004819
CREATED:20260413T073345Z
LAST-MODIFIED:20260413T073425Z
UID:6595-1776931200-1796403600@bastiderouge.com
SUMMARY:Formations audiovisuelles 2026 à Cannes Bastide Rouge
DESCRIPTION:Nouvelles formations à Cannes Bastide Rouge pour les professionnels de l’audiovisuel. \n\n\n\nDécouvrez les formations et ateliers à venir : \n\n\n\n\nAtelier IA & Audiovisuel\, du 15 au 19 juin 2026\, Cannes Bastide Rouge\n\n\n\n\nCe cycle de formation de 4 jours permet d’intégrer concrètement les outils d’intelligence artificielle dans les métiers de l’image\, du son et du spectacle. \n\n\n\nAu programme : panorama des outils IA adaptés à l’audiovisuel et aux ICC\, atelier pour monter un projet IA de A à Z\, accompagnement sur mesure pour construire des pipelines IA (prépa de tournage\, dérush\, extraits réseaux sociaux\, etc.). \n\n\n\nPrise en charge possible (OPCO\, selon profil). \n\n\n\n📩 Infos & pré-inscriptions : olivia.papini@la-meduse-violette.com – www.la-meduse-violette.com \n\n\n\n \n\n\n\n\nFormation doublage – Dub-School\, du 13 au 17 juillet 2026\, Cannes Bastide Rouge\n\n\n\n\nFormation immersive de 5 jours dédiée au doublage\, encadrée par deux professionnelles reconnues : Dorothée Pousséo (voix française de Margot Robbie) et Kelly Marot (voix française de Jennifer Lawrence). Financements possibles : Afdas\, CPF\, Agefiph\, France Travail\, FIFPL\, autofinancement. \n\n\n\n📩 Infos & inscriptions : www.dub-school.fr \n\n\n\n \n\n\n\n\nFormations professionnelles – Adastra Films\n\n\n\n\nBooster sa carrière d’acteur\, du 14 au 25 septembre 2026\, Cannes Bastide Rouge \n\n\n\nScénaristes et réalisateurs : stratégies pour convaincre un producteur ou autoproduire ses films\, du 5 au 16 octobre 2026\, Cannes Bastide Rouge \n\n\n\nProduire et financer un film indépendant : les clés pour réussir\, du 16 au 27 novembre 2026\, Cannes Bastide Rouge \n\n\n\n📩 Infos & inscriptions : https://adastra-films.com/industrie-audiovisuelle-guide-strategique-bonnes-pratiques-professionnels/ \n\n\n\n \n\n\n\n\nFormations professionnelles ESRA\n\n\n\n\nChargé de production (Titre RNCP niveau 6)\, du 4 mai au 20 novembre 2026 à Cannes Bastide Rouge https://esra.edu/formations/formations-professionnelles/charge-de-production/ \n\n\n\nMonteur audiovisuel (Titre RNCP niveau 5) du 1er juin au 4 décembre 2026 à Cannes Bastide Rouge https://esra.edu/formations/formations-professionnelles/monteur/ \n\n\n\nOpérateur de prise de vue (Titre RNCP niveau 5) du 23 avril au 13 novembre 2026 à Cannes Bastide Rouge https://esra.edu/formations/formations-professionnelles/operateur-prise-de-vue/ \n\n\n\nPlusieurs solutions de financement sont possibles selon votre situation : CPF\, France Travail\, OPCO\, Transition Pro\, etc. \n\n\n\nRetrouvez tous nos ateliers et formations sur www.bastiderouge.com.
URL:https://bastiderouge.com/evenement/formations-audiovisuelles-2026-a-cannes-bastide-rouge/
END:VEVENT
BEGIN:VEVENT
DTSTART;TZID=Europe/Paris:20260503T080000
DTEND;TZID=Europe/Paris:20261113T170000
DTSTAMP:20260423T004819
CREATED:20260213T110839Z
LAST-MODIFIED:20260213T110920Z
UID:6498-1777795200-1794589200@bastiderouge.com
SUMMARY:Formations professionnelles certifiantes ESRA 2026 Cannes (Chargé de production\, monteur audiovisuel\, opérateur prise de vue)
DESCRIPTION:Vous souhaitez vous former aux métiers de l’audiovisuel et du cinéma à Cannes ? L’ESRA propose pour la rentrée 2026 trois formations professionnelles certifiantes\, reconnues par l’État\, au sein du pôle audiovisuel Cannes Bastide Rouge : \n\n\n\n– Chargé de production (Titre RNCP niveau 6)\, du 4 mai au 20 novembre 2026 à Cannes\, Campus Georges Méliès \n\n\n\nDurée : 6 mois (4 mois de formation + 2 mois de stage) \n\n\n\n– Monteur audiovisuel (Titre RNCP niveau 5) du 1er juin au 4 décembre 2026 à Cannes\, Campus Georges Méliès \n\n\n\nDurée : 6 mois (4 mois de formation + 2 mois de stage) \n\n\n\n– Opérateur de prise de vue (Titre RNCP niveau 5) du 23 avril au 13 novembre 2026 à Cannes\, Campus Georges Méliès \n\n\n\nDurée : 6 mois (4 mois de formation + 2 mois de stage) \n\n\n\nCes formations sont intensives\, dispensées en présentiel\, encadrées par des professionnels du secteur\, et incluent un stage en entreprise ainsi qu’une certification à la clé. \n\n\n\nPlusieurs solutions de financement sont possibles selon votre situation : CPF\, France Travail\, OPCO\, Transition Pro\, etc. \n\n\n\nLes équipes de l’ESRA vous accompagnent dans le montage de votre dossier. \n\n\n\nPour en savoir plus sur chaque formation : \n\n\n\n– Chargé de production : https://esra.edu/formations/formations-professionnelles/charge-de-production/ \n\n\n\n– Monteur audiovisuel : https://esra.edu/formations/formations-professionnelles/monteur/ \n\n\n\n– Opérateur de prise de vue : https://esra.edu/formations/formations-professionnelles/operateur-prise-de-vue/ \n\n\n\nPour toute demande d’information ou pour candidater : admissionpro@esra.edu
URL:https://bastiderouge.com/evenement/formations-professionnelles-certifiantes-esra-2026-cannes-charge-de-production-monteur-audiovisuel-operateur-prise-de-vue/
ATTACH;FMTTYPE=image/jpeg:https://bastiderouge.com/wp-content/uploads/2026/02/Charge-de-production-1.jpg
END:VEVENT
END:VCALENDAR