BEGIN:VCALENDAR
VERSION:2.0
PRODID:-//Bastide Rouge - ECPv6.15.12.2//NONSGML v1.0//EN
CALSCALE:GREGORIAN
METHOD:PUBLISH
X-WR-CALNAME:Bastide Rouge
X-ORIGINAL-URL:https://bastiderouge.com
X-WR-CALDESC:Évènements pour Bastide Rouge
REFRESH-INTERVAL;VALUE=DURATION:PT1H
X-Robots-Tag:noindex
X-PUBLISHED-TTL:PT1H
BEGIN:VTIMEZONE
TZID:Europe/Paris
BEGIN:DAYLIGHT
TZOFFSETFROM:+0100
TZOFFSETTO:+0200
TZNAME:CEST
DTSTART:20250330T010000
END:DAYLIGHT
BEGIN:STANDARD
TZOFFSETFROM:+0200
TZOFFSETTO:+0100
TZNAME:CET
DTSTART:20251026T010000
END:STANDARD
BEGIN:DAYLIGHT
TZOFFSETFROM:+0100
TZOFFSETTO:+0200
TZNAME:CEST
DTSTART:20260329T010000
END:DAYLIGHT
BEGIN:STANDARD
TZOFFSETFROM:+0200
TZOFFSETTO:+0100
TZNAME:CET
DTSTART:20261025T010000
END:STANDARD
BEGIN:DAYLIGHT
TZOFFSETFROM:+0100
TZOFFSETTO:+0200
TZNAME:CEST
DTSTART:20270328T010000
END:DAYLIGHT
BEGIN:STANDARD
TZOFFSETFROM:+0200
TZOFFSETTO:+0100
TZNAME:CET
DTSTART:20271031T010000
END:STANDARD
END:VTIMEZONE
BEGIN:VEVENT
DTSTART;TZID=Europe/Paris:20260117T080000
DTEND;TZID=Europe/Paris:20260117T170000
DTSTAMP:20260422T144404
CREATED:20260106T135229Z
LAST-MODIFIED:20260106T135307Z
UID:6388-1768636800-1768669200@bastiderouge.com
SUMMARY:Journée Portes Ouvertes – Formations des Industries Culturelles et Créatives
DESCRIPTION:Le Campus des Métiers et des Qualifications d’Excellence Industries Culturelles et Créatives Provence-Alpes-Côte d’Azur organise une journée portes ouvertes dédiée aux formations des Industries Culturelles et Créatives (ICC) présentes sur le territoire régional. \n\n\n\nCette journée a pour objectif d’informer et de sensibiliser le public aux différentes formations ICC\, avec un focus particulier sur les parcours accessibles sur le bassin cannois. \n\n\n\nInformations pratiques\n\n\n\n\nDate : Samedi 17 janvier\n\n\n\nHoraires : de 9h à 17h\n\n\n\nLieu : Campus Georges Méliès – Université Côte d’Azur214 avenue Francis Tonner\, 06150 Cannes\n\n\n\n\nCette journée portes ouvertes s’adresse à toute personne souhaitant s’orienter\, se réorienter ou se renseigner sur les métiers et formations des Industries Culturelles et Créatives. \n\n\n\n👉 Entrée libre – Ouvert à tous
URL:https://bastiderouge.com/evenement/journee-portes-ouvertes-formations-des-industries-culturelles-et-creatives/
ATTACH;FMTTYPE=image/jpeg:https://bastiderouge.com/wp-content/uploads/2026/01/jpo-cmqe.jpg
END:VEVENT
BEGIN:VEVENT
DTSTART;TZID=Europe/Paris:20260127T100000
DTEND;TZID=Europe/Paris:20260127T120000
DTSTAMP:20260422T144404
CREATED:20260102T135521Z
LAST-MODIFIED:20260102T135547Z
UID:6374-1769508000-1769515200@bastiderouge.com
SUMMARY:MASTERCLASS : Utiliser l’IA dans la production audiovisuelle
DESCRIPTION:Utiliser l’IA dans la production audiovisuelle \n\n\n\n“RÉVÉLER L’HUMAIN IRREMPLAÇABLE”\n\n\n\n27 janvier 2025 – Campus Bastide Rouge\, Cannes \n\n\n\nIntroduction\n\n\n\nInari Skills\, plateforme e-learning Deep Tech (lancement mars 2026) présente une Masterclass avec 4 experts internationaux qui deviendront formateurs référents et partenaires pour le secteur des ICC. Ensemble\, ils démontrent comment développer les compétences irremplaçables face au boom IA 2026-2030 et l’impact de l’IA dans les ICC. \n\n\n\n\n\n\n\nINTERVENANTS & EXPERTS\n\n\n\nFondatrices Inari Skills \n\n\n\n\nOlivia Papini – Co-fondatrice Inari Skills | La Méduse Violette\n\n\n\nMaria Kiseleva – Co-fondatrice Inari Skills | La Méduse Violette\n\n\n\n\nExperts Formateurs \n\n\n\n\nHayato Inoue – Co-fondateur WAIFF JAPAN | Tokyo Epic (depuis Tokyo)\n\n\n\nHadrien Gautrot – Co-fondateur Nicéphore | ai creative studio\n\n\n\nWilliam Eguienta – Expert VFX Pipeline & Optimisation IA\n\n\n\nDimitri Daniloff – Directeur Artistique Hana Katoba x L’Occitane\n\n\n\n\n\n\n\n\nPROGRAMME DÉTAILLÉ (1h15 + 45min Q&A)\n\n\n\n10h00 – 10h15 | OUVERTURE\n\n\n\n« La Vérité Que Personne N’Ose Dire »Olivia Papini \n\n\n\nVous découvrirez : \n\n\n\n\n4 cas concrets\n\n\n\n\n\n\n\n\n10h15 – 10h30 | EXPERT 1 : CRÉATIVITÉ INTENTIONNELLE\n\n\n\nHayato Inoue – Tokyo Epic (en ligne depuis Tokyo\, anglais) \n\n\n\nVous apprendrez : \n\n\n\n\nLa méthodologie unique en 4 étapes pour créer avec l’IA (concept → direction → génération → montage)\n\n\n\nCas concret NinjaMasx : comment la créativité intentionnelle humaine amplifie l’IA\n\n\n\nPourquoi l’IA génère\, mais seul l’humain sait POURQUOI créer\n\n\n\nL’organisation du WAIFF (World AI Film Festival) au Japon\n\n\n\nMasterclasses prévues dans les écoles françaises dès 2026\n\n\n\n\n\n\n\n\n10h32 – 10h47 | EXPERT 2 : STORYTELLING ÉMOTIONNEL\n\n\n\nHadrien Gautrot – Nicéphore \n\n\n\nVous apprendrez : \n\n\n\n\nComment créer des récits qui touchent émotionnellement (pas juste informer)\n\n\n\nCas concrets SCOR\, Accuracy\, Marques Luxe : campagnes vidéo\, stratégie marque\, trucages cinéma\n\n\n\nTransformer l’IA en amplificateur créatif sans sacrifier l’exigence\n\n\n\nComprendre l’ADN invisible d’une entreprise pour renforcer sa marque\n\n\n\nMéthodes pédagogiques issues de Sciences Po et des Ateliers Claude Lelouch\n\n\n\n\n\n\n\n\n10h49 – 11h04 | EXPERT 3 : PENSÉE SYSTÉMIQUE\n\n\n\nWilliam Eguienta \n\n\n\nVous apprendrez : \n\n\n\n\nComment optimiser vos productions de -40% de coûts SANS impact qualité\n\n\n\nCas concrets France TV (« Un Si Grand Soleil »)\, Nestlé\, Série IA : 1ère série quotidienne VFX live\n\n\n\nLa méthode en 3 phases : Optimisation + Intégration IA propriétaire + ML custom\n\n\n\nVoir les interdépendances que l’IA seule ne détecte pas\n\n\n\nTransformer l’impossible en possible avec une vision systémique\n\n\n\n\n\n\n\n\n11h06 – 11h16 | EXPERT 4 : SENS & VALEURS\n\n\n\nDimitri Daniloff \n\n\n\nVous apprendrez : \n\n\n\n\nDirection artistique IA dans l’univers du luxe : cas L’Occitane x Hana Kotoba\n\n\n\nComment préserver l’ADN d’une marque premium tout en innovant\n\n\n\nPourquoi l’IA génère\, mais seul l’humain PORTE LES VALEURS et RESSENT L’ÉMOTION\n\n\n\nFusion art + technologie + excellence créative\n\n\n\nL’exigence que l’IA ne peut égaler sans guide humain\n\n\n\n\n\n\n\n\n11h18 – 11h30 | SYNTHÈSE FINALE\n\n\n\nOlivia Papini \n\n\n\n\n\n\n\n11h30 – 12h15 | SESSION Q&A COLLECTIVE (45 min)\n\n\n\nModération : Olivia | Avec les 4 futurs Experts \n\n\n\n\n\n\n\nVOUS PARTIREZ AVEC\n\n\n\n✅ Une compréhension claire du bouleversement IA 2025-2030✅ 4 méthodologies concrètes de compétences irremplaçables✅ Votre Professional DNA révélé (démo Maya)✅ Un réseau d’experts internationaux✅ Un accès privilégié à la plateforme Inari Skills (lancement mars 2026)
URL:https://bastiderouge.com/evenement/masterclass-utiliser-lia-dans-la-production-audiovisuelle/
CATEGORIES:Ateliers,Mes événements
ATTACH;FMTTYPE=image/jpeg:https://bastiderouge.com/wp-content/uploads/2026/01/Title.jpg
END:VEVENT
BEGIN:VEVENT
DTSTART;TZID=Europe/Paris:20260129T180000
DTEND;TZID=Europe/Paris:20260129T220000
DTSTAMP:20260422T144404
CREATED:20260112T141435Z
LAST-MODIFIED:20260112T141517Z
UID:6398-1769709600-1769724000@bastiderouge.com
SUMMARY:Première Séance
DESCRIPTION:Nous avons le plaisir de vous inviter à la prochaine édition de « Première séance »\, notre rendez-vous dédié aux projections de courts-métrages en présence de leurs créateurs\, jeudi 29 janvier 2026\, à 18h à Cannes Bastide Rouge\, Campus Georges Méliès. \n\n\n\nCette soirée organisée avec le soutien de la Commission du Film 06\, Machina Films\, l’association Day 4 Night\, Visual Séquence\, Hansley\, Adastra Films sera l’occasion de découvrir des œuvres audiovisuelles locales\, rencontrer leurs auteurs et échanger entre professionnels. \n\n\n\nLa projection sera suivie d’un moment convivial autour d’un cocktail. \n\n\n\nInscription obligatoire au lien suivant : https://forms.gle/4A9XbgjbhaJJ2e7p8 \n\n\n\nAu plaisir de vous retrouver pour cette nouvelle édition de Première séance !
URL:https://bastiderouge.com/evenement/premiere-seance/
LOCATION:CANNES BASTIDE ROUGE / Campus Georges Méliès\, 216 AVENUE FRANCIS TONNER\, Cannes La Bocca\, 06150\, France
END:VEVENT
END:VCALENDAR