BEGIN:VCALENDAR
VERSION:2.0
PRODID:-//Bastide Rouge - ECPv6.15.12.2//NONSGML v1.0//EN
CALSCALE:GREGORIAN
METHOD:PUBLISH
X-WR-CALNAME:Bastide Rouge
X-ORIGINAL-URL:https://bastiderouge.com
X-WR-CALDESC:Évènements pour Bastide Rouge
REFRESH-INTERVAL;VALUE=DURATION:PT1H
X-Robots-Tag:noindex
X-PUBLISHED-TTL:PT1H
BEGIN:VTIMEZONE
TZID:Europe/Paris
BEGIN:DAYLIGHT
TZOFFSETFROM:+0100
TZOFFSETTO:+0200
TZNAME:CEST
DTSTART:20250330T010000
END:DAYLIGHT
BEGIN:STANDARD
TZOFFSETFROM:+0200
TZOFFSETTO:+0100
TZNAME:CET
DTSTART:20251026T010000
END:STANDARD
BEGIN:DAYLIGHT
TZOFFSETFROM:+0100
TZOFFSETTO:+0200
TZNAME:CEST
DTSTART:20260329T010000
END:DAYLIGHT
BEGIN:STANDARD
TZOFFSETFROM:+0200
TZOFFSETTO:+0100
TZNAME:CET
DTSTART:20261025T010000
END:STANDARD
BEGIN:DAYLIGHT
TZOFFSETFROM:+0100
TZOFFSETTO:+0200
TZNAME:CEST
DTSTART:20270328T010000
END:DAYLIGHT
BEGIN:STANDARD
TZOFFSETFROM:+0200
TZOFFSETTO:+0100
TZNAME:CET
DTSTART:20271031T010000
END:STANDARD
END:VTIMEZONE
BEGIN:VEVENT
DTSTART;TZID=Europe/Paris:20260312T180000
DTEND;TZID=Europe/Paris:20260312T220000
DTSTAMP:20260422T073727
CREATED:20260226T092628Z
LAST-MODIFIED:20260226T093148Z
UID:6512-1773338400-1773352800@bastiderouge.com
SUMMARY:Afterwork Cinéma avec Adastra Films Formation et La Réplique
DESCRIPTION:Cannes Bastide Rouge a le plaisir de vous convier à un afterwork dédié aux professionnels de l’audiovisuel\, jeudi 12 mars 2026 à 18h. \n\n\n\nAu programme :• Cocktail & rencontres• Visite des studios de production• Échanges avec les acteurs de la filière \n\n\n\nCet événement est organisé avec le soutien de la Commission du Film 06 et en collaboration avec Adastra Films Formation et La Réplique\, qui seront présents pour vous rencontrer. \n\n\n\nUn moment convivial pour développer votre réseau et découvrir les studios Cannes Bastide Rouge. \n\n\n\n⚠️ Inscription obligatoire : https://forms.gle/48ZDEpAxNcctEH5o9
URL:https://bastiderouge.com/evenement/afterwork-cinema-avec-adastra-films-formation-et-la-replique/
LOCATION:CANNES BASTIDE ROUGE / Campus Georges Méliès\, 216 AVENUE FRANCIS TONNER\, Cannes La Bocca\, 06150\, France
CATEGORIES:Mes événements
ATTACH;FMTTYPE=image/jpeg:https://bastiderouge.com/wp-content/uploads/2026/02/Evenement-cineastes-1203-4.jpg
END:VEVENT
BEGIN:VEVENT
DTSTART;TZID=Europe/Paris:20260316T130000
DTEND;TZID=Europe/Paris:20260316T180000
DTSTAMP:20260422T073727
CREATED:20260209T101650Z
LAST-MODIFIED:20260209T101731Z
UID:6478-1773666000-1773684000@bastiderouge.com
SUMMARY:Le Lab des Repreneuses
DESCRIPTION:Curieuse d’en savoir plus sur la Reprise? \n\n\n\nVenez vivre l’aventure d’une reprise de l’intérieur avec Le Lab des Repreneuses ! \n\n\n\nUn atelier immersif pour explorer toutes les facettes de la reprise et en comprendre les enjeux. \n\n\n\n16 mars – Campus Georges Méliès à Cannes \n\n\n\nDe 13h à 18h \n\n\n\nAu programme: \n\n\n\n•             Immersion sur des cas de reprise en sous-groupes\, avec le soutien et l’animation d’experts \n\n\n\n•             Présentation des structures de financement et d’accompagnement pour la reprise \n\n\n\n Venez tester vos ambitions\, rencontrer des experts et les structures qui peuvent vous soutenir! \n\n\n\nCet événement est organisé par LES PREMIERES SUD\, en partenariat avec la BPI\, la Région Sud\, l’agglomération Cannes Pays de Lerins\, l’Apec\, France Travail et le Grand Bain. Et avec la participation d’Initiative Terres d’Azur\, Réseau Entreprendre Nice Côte d’Azur\, Connect Pro\, In Extenso et Manenti&Co. \n\n\n\nÉvénement réservé aux femmes et équipes mixtes – Places limitées \n\n\n\n🎯 Inscription obligatoire : https://www.lespremieressud.com/event-details/le-lab-des-repreneuses-cannes   \n\n\n\nOSEZ REPRENDRE. OSEZ VOUS LANCER.
URL:https://bastiderouge.com/evenement/le-lab-des-repreneuses/
CATEGORIES:Ateliers
ATTACH;FMTTYPE=image/jpeg:https://bastiderouge.com/wp-content/uploads/2026/02/Visuel-Lab-des-Repreneuses-Cannes-2026-1.jpg
END:VEVENT
END:VCALENDAR